Workbook

Sheet CONTRATOS TRLCSP
A1: LISTADO DE CONTRATOS SUJETOS AL TRLCSP O A LA LEY 9/2017 FORMALIZADOS POR MURCIA ALTA VELOCIDAD EN EL EJERCICIO 2026 | R1: 46295 | S1: Revisión
A3: Nº | B3: Trim. | C3: Ref. Contrato | D3: Fecha Adjudicacion | E3: Fecha Formalizacion | F3: Objeto | G3: Valor Estimado (sin IVA) | H3: Impuestos | I3: Presupuesto Licitacion (con IVA) | J3: Importe Adjudicacion (sin IVA) | K3: Plazo Ejecucion Meses | L3: Licitadores | M3: Tipo Contrato | N3: Forma Tramitacion | O3: Legislacion Aplicable | P3: Proc. Licitación | Q3: Pyme | R3: NIF/CIF | S3: Adjudicatario | T3: SARA
A4: 1 | B4: 1T | C4: 202505 | D4: 16/01/2026 | E4: 16/02/2026 | F4: Asistencia Técnica de las obras de urbanización de la Fase 0. Tramo 0.1 (lote 1) | G4: 150191.98 | H4: 31540.32 | I4: 181732.3 | J4: 86780.93 | K4: 15 | L4: 8 | M4: Servicios | N4: Ordinaria | O4: Ley 9/2017 | P4: Abierto | Q4: SI | R4: B73252777 | S4: GETNISA INGENIERÍA CIVIL, S.L.P., | T4: SI
A5: 2 | B5: 1T | C5: 202505 | D5: 16/01/2026 | E5: 16/02/2026 | F5: Asistencia Técnica de las obras de urbanización de la Fase 0. Tramo 0.2 (lote 2) | G5: 140423.25 | H5: 29488.88 | I5: 169912.13 | J5: 82772.7 | K5: 15 | L5: 8 | M5: Servicios | N5: Ordinaria | O5: Ley 9/2017 | P5: Abierto | Q5: SI | R5: B73671265 | S5: COLTEC INGENIERÍA Y PROYECTOS, S.L. | T5: SI
A6: 3 | B6: 1T | C6: 202501 | D6: 12/12/2025 | E6: 05/01/2026 | F6: Auditoría de cuentas anuales 2025, 2026 y 2027 | G6: 48790.29 | H6: 10245.96 | I6: 59036.25 | J6: 31713.69 | K6: 36 | L6: 4 | M6: Servicios | N6: Ordinaria | O6: Ley 9/2017 | P6: Abierto | Q6: SI | R6: B30339410 | S6: Auditeco, S.L. | T6: NO
A7: 4 | B7: 1T | C7: 202601 | D7: 23/02/2026 | E7: 23/02/2026 | F7: Adaptación de puesto de trabajo | G7: 1160 | H7: 243.6 | I7: 1403.6 | J7: 936 | K7: 1 | L7: 1 | M7: Suministros | N7: Ordinaria | O7: Ley 9/2017 | P7: Contrato Menor | Q7: SI | R7: B73862054 | S7: Kuve Mobiliario, S.L. | T7: NO
A8: 5 | B8: 1T | C8: 202602 | D8: 27/02/2026 | E8: 04/03/2026 | F8: Mantenimiento Informático | G8: 4067 | H8: 854.07 | I8: 4921.07 | J8: 2695 | K8: 12 | L8: 3 | M8: Servicios | N8: Ordinaria | O8: Ley 9/2017 | P8: Contrato Menor | Q8: SI | R8: 34833741B | S8: Francisco León Izquierdo | T8: NO
A9: 6 | B9: 2T | C9: 202603 | D9: 18/05/2026 | E9: 18/05/2026 | F9: Desarrollo aplicación web gestión documental y visor 3d Plaza Central | G9: 14900 | H9: 3219 | I9: 17496.6 | J9: 14460 | K9: 12 | L9: 1 | M9: Servicios | N9: Ordinaria | O9: Ley 9/2017 | P9: Contrato Menor | Q9: SI | R9: B80595283 | S9: Medios Avanzados de Cálculo y Diseño, S.L. | T9: NO
A10: 7 | B10: 2T | C10: 202604 | D10: 18/05/2026 | E10: 18/05/2026 | F10: Gestión del Canal de denuncias | G10: 750 | H10: 157.5 | I10: 605 | J10: 500 | K10: 12 | L10: 3 | M10: Servicios | N10: Ordinaria | O10: Ley 9/2017 | P10: Contrato Menor | Q10: SI | R10: B86260247 | S10: Grupo Adaptalia Legal Formativo, S.L | T10: NO
A11: 8 | B11: 2T | C11: 202421-L1 | D11: 46169 | E11: 46198 | F11: Urbanización y tratamiento de superficie - Fase 0. Tramo 0.1 (lote 1) | G11: 5006399.6 | H11: 1051343.9 | I11: 6057743.5 | J11: 4007270.2 | K11: 11 | L11: 17 | M11: Obras | N11: Ordinaria | O11: Ley 9/2017 | P11: Abierto | Q11: NO | R11: A28019206 | S11: FERROVIAL CONSTRUCCIÓN, S.A. | T11: SI
A12: 9 | B12: 2T | C12: 202421-L2 | D12: 46169 | E12: 46198 | F12: Urbanización y tratamiento de superficie - Fase 0. Tramo 0.2 (lote 2) | G12: 4680774.9 | H12: 982962.72 | I12: 5663737.6 | J12: 3865283.1 | K12: 11 | L12: 17 | M12: Obras | N12: Ordinaria | O12: Ley 9/2017 | P12: Abierto | Q12: NO | R12: A28019206 | S12: FERROVIAL CONSTRUCCIÓN, S.A. | T12: SI
A13: 10 | B13: 3T | C13: 202605 | D13: 46215 | E13: 46216 | F13: Adaptación del portal de transparencia e implantación de requisitos de accesibilidad de la web corporativa | G13: 2250 | H13: =0.21*G13 -> 472.5 | I13: =+G13+H13 -> 2722.5 | J13: 2250 | K13: 2 | L13: 4 | M13: Servicios | N13: Ordinaria | O13: Ley 9/2017 | P13: Contrato Menor | Q13: SI | R13: B73821019 | S13: Digitaldot Servicios Informáticos, S.L | T13: NO
A14: 11 | B14: 3T | C14: 202607 | D14: 46210 | E14: 46211 | F14: Topografía túnel | G14: 14770.58 | H14: =0.21*G14 -> 3101.82 | I14: =+H14+G14 -> 17872.4 | J14: 14575 | K14: 4 | L14: 2 | M14: Servicios | N14: Ordinaria | O14: Ley 9/2017 | P14: Contrato Menor | Q14: SI | R14: B73387938 | S14: Vimetop, S.L.P | T14: NO
A15: 12 | B15: 3T | C15: 202608 | D15: 46211 | E15: 46211 | F15: Asistencia jurídica a Convenios administrativos | G15: 14161 | H15: =0.21*G15 -> 2973.81 | I15: =+G15+H15 -> 17134.81 | J15: 13500 | K15: 12 | L15: 1 | M15: Servicios | N15: Ordinaria | O15: Ley 9/2017 | P15: Contrato Menor | Q15: SI | R15: B-85932358 | S15: Kalaman Consulting, S.L | T15: NO
A16: 13 | B16: 3T | C16: 202609 | D16: 46219 | E16: 46219 | F16: Licencias Adobe Acrobat Sign con multifirma digital | G16: 1013 | H16: 212.73 | I16: 1225.73 | J16: 1013 | K16: 12 | L16: 1 | M16: Servicios | N16: Ordinaria | O16: Ley 9/2017 | P16: Contrato Menor | Q16: SI | R16: B-41975608 | S16: ADV Informáticas, S.L | T16: NO
A17: 14 | B17: 3T | C17: 202610 | D17: 46272 | E17: 46274 | F17: Seguro responsabilidad civil | G17: 1500 | H17: Exento | I17: =+G17 -> 1500 | J17: 927 | K17: 12 | L17: 4 | M17: Servicios | N17: Ordinaria | O17: Ley 9/2017 | P17: Contrato Menor | Q17: NO | R17: W-0067389-G | S17: Chubb European Group SE, Sucursal en España | T17: NO
A18: 15 | B18: 3T | C18: 202611 | D18: 46281 | E18: 46287 | F18: Almacenamiento de mobiliario | G18: 1600 | H18: =0.21*G18 -> 336 | I18: =+H18+G18 -> 1936 | J18: 840 | K18: 12 | L18: 3 | M18: Servicios | N18: Ordinaria | O18: Ley 9/2017 | P18: Contrato Menor | Q18: SI | R18: B-30026306 | S18: Mudanzas Castillo, S.L. | T18: NO
A19: 16 | B19: 3T | C19: 202612 | D19: 46273 | E19: 46274 | F19: Seguro accidentes | G19: 240 | H19: Exento | I19: 240 | J19: 111.36 | K19: 12 | L19: 4 | M19: Servicios | N19: Ordinaria | O19: Ley 9/2017 | P19: Contrato Menor | Q19: NO | R19: W-0067389-G | S19: Chubb European Group SE, Sucursal en España | T19: NO
A20: 17 | B20: 3T | C20: 202613 | D20: 46293 | E20: 46294 | F20: Servicios de Asesoramiento Contable, Fiscal, Laboral y Mercantil | G20: 14895 | H20: =0.21*G20 -> 3127.95 | I20: =+H20+G20 -> 18022.95 | J20: 14820 | K20: 12 | L20: 3 | M20: Servicios | N20: Ordinaria | O20: Ley 9/2017 | P20: Contrato Menor | Q20: SI | R20: B73504540 | S20: Cauce Consultores de Negocio, S.L | T20: NO
J24: =SUM(J4:J23) -> 8140448.1
D25: NOTA: En el periodo no se han producido modificaciones de los contratos informados
E29: % contratación según el Procedimiento
N47: Pyme | O47: Menos de 250 empleados
O48: Facturación inferior a 50 millones de euros
E55: Nº Contratos según Procedimiento de Licitación

Sheet Cálculos
B4: Tipo de Contrato | C4: Nº Contratos | D4: % | E4: Importe | G4: Contratos adjudicados | H4: Número | I4: Contratos adjudicados | J4: % | K4: Importe
B5: Abierto criterio precio | C5: 0 | G5: No Pyme | H5: 4 | I5: No Pyme | J5: =+(K5/$E$19)*100 -> 96.7218 | K5: =+'CONTRATOS TRLCSP'!J11+'CONTRATOS TRLCSP'!J12+'CONTRATOS TRLCSP'!J17+'CONTRATOS TRLCSP'!J19 -> 7873591.7
B6: Restringido criterio precio | C6: 0 | G6: Pyme | H6: 13 | I6: Pyme | J6: =+(K6/$E$19)*100 -> 3.2782 | K6: =E18-K5 -> 266856.32
B7: Procedimiento negociado con publicidad | C7: 0
B8: Procedimiento negociado sin publicidad | C8: 0 | G8: Contratos adjudicados a PYMES | H8: Importe
B9: Diálogo competitivo | C9: 0 | G9: =B13 -> Abierto | H9: ='CONTRATOS TRLCSP'!$J$4+'CONTRATOS TRLCSP'!$J$5+'CONTRATOS TRLCSP'!$J$6 -> 201267.32
B10: Adjudicación directa | C10: 0 | G10: =B17 -> Contrato Menor | H10: =+E17 -> 66627.36
B11: Otros | C11: 0 | G11: TOTAL | H11: =K6 -> 266856.32
B12: Contratación centralizada | C12: 0
B13: Abierto | C13: 5 | D13: =E13/$E$18 -> 0.9918 | E13: =+'CONTRATOS TRLCSP'!J4+'CONTRATOS TRLCSP'!J5+'CONTRATOS TRLCSP'!J6+'CONTRATOS TRLCSP'!J11+'CONTRATOS TRLCSP'!J12 -> 8073820.7 | G13: Contratos adjudicados a PYMES | H13: Importe
B14: Concurso de proyectos | C14: 0 | D14: =+(E14/$E$19)*100 -> 0 | E14: 0 | G14: ='CONTRATOS TRLCSP'!M4 -> Servicios | H14: =+'CONTRATOS TRLCSP'!J4+'CONTRATOS TRLCSP'!J5+'CONTRATOS TRLCSP'!J6+'CONTRATOS TRLCSP'!J8+'CONTRATOS TRLCSP'!J9+'CONTRATOS TRLCSP'!J10+'CONTRATOS TRLCSP'!J13+'CONTRATOS TRLCSP'!J14+'CONTRATOS TRLCSP'!J15+'CONTRATOS TRLCSP'!J16+'CONTRATOS TRLCSP'!J17+'CONTRATOS TRLCSP'!J18+'CONTRATOS TRLCSP'!J19+'CONTRATOS TRLCSP'!J20 -> 266958.68
B15: Procedimiento de asociación para la innovación | C15: 0 | G15: ='CONTRATOS TRLCSP'!M7 -> Suministros | H15: =+'CONTRATOS TRLCSP'!J7 -> 936
B16: Sistema dinámico de adquisición | C16: 0 | G16: TOTAL | H16: =K6 -> 266856.32
B17: Contrato Menor | C17: 12 | D17: =E17/$E$18 -> 0.0082 | E17: =+'CONTRATOS TRLCSP'!J7+'CONTRATOS TRLCSP'!J8+'CONTRATOS TRLCSP'!J9+'CONTRATOS TRLCSP'!J10+'CONTRATOS TRLCSP'!J13+'CONTRATOS TRLCSP'!J14+'CONTRATOS TRLCSP'!J15+'CONTRATOS TRLCSP'!J17+'CONTRATOS TRLCSP'!J18+'CONTRATOS TRLCSP'!J19+'CONTRATOS TRLCSP'!J20+'CONTRATOS TRLCSP'!J16 -> 66627.36
B18: Total | C18: =SUM(C5:C17) -> 17 | D18: =SUM(D5:D17) -> 1 | E18: =SUM(E5:E17) -> 8140448.1
B19: Importe total contratos (Importe adjudicación) | E19: ='CONTRATOS TRLCSP'!J24 -> 8140448.1 | F19: =E18-E19 -> 0 | G19: Check | H19: =E19-H11 -> 7873591.7
G21: Contratos adjudicados a PYMES | H21: ='CONTRATOS TRLCSP'!$J$24-'CONTRATOS TRLCSP'!$J$11-'CONTRATOS TRLCSP'!$J$12-'CONTRATOS TRLCSP'!$J$17-'CONTRATOS TRLCSP'!$J$19 -> 266856.32
G22: Resto a No PYMES | H22: ='CONTRATOS TRLCSP'!$J$11+'CONTRATOS TRLCSP'!$J$12+'CONTRATOS TRLCSP'!$J$17+'CONTRATOS TRLCSP'!$J$19 -> 7873591.7
G23: TOTAL ADJUDICACIÓN | H23: =SUM(H21:H22) -> 8140448.1
G24: Check | H24: =E19-H23 -> 0
